BEGIN:VCALENDAR
VERSION:2.0
PRODID:-//Kulturweberei Telfs - ECPv6.15.20//NONSGML v1.0//EN
CALSCALE:GREGORIAN
METHOD:PUBLISH
X-ORIGINAL-URL:https://kulturweberei.at
X-WR-CALDESC:Veranstaltungen für Kulturweberei Telfs
REFRESH-INTERVAL;VALUE=DURATION:PT1H
X-Robots-Tag:noindex
X-PUBLISHED-TTL:PT1H
BEGIN:VTIMEZONE
TZID:UTC
BEGIN:STANDARD
TZOFFSETFROM:+0000
TZOFFSETTO:+0000
TZNAME:UTC
DTSTART:20250101T000000
END:STANDARD
END:VTIMEZONE
BEGIN:VEVENT
DTSTART;TZID=UTC:20260213T200000
DTEND;TZID=UTC:20260213T233000
DTSTAMP:20260422T000047
CREATED:20260109T092724Z
LAST-MODIFIED:20260206T185628Z
UID:2892-1771012800-1771025400@kulturweberei.at
SUMMARY:keinermagAnnika + Bluetooth Pony // Alternative-Rock-Night
DESCRIPTION:LIVE ON STAGE: keinermagAnnika + Bluetooth Pony\nZwischen Indie-Vibes und klassischer Rock-Energy: Die Alternative Rock Night in der Kultur Weberei ist laut\, intensiv und genau richtig für alle\, die Abgehen und dabei ein bisschen den Alltag vergessen wollen.\n\nFreitag\, 13.2.2026\nEinlass 19:30 Uhr\nEintritt: freiwillige Spenden\n\nBluetooth Pony\nBluetooth Pony sind ein Indie-Rock-Trio aus Innsbruck\, das seit 2021 mit Stadion-tauglichen Hooks\, treibenden Riffs und ordentlich Live-Energie auf sich aufmerksam macht. Inspiriert von Arctic Monkeys\, The Hives und Kings of Leon verbindet die Band rohe Rock-Power mit eingängigen Melodien\, die sofort im Ohr bleiben. \nJoe (Gesang/Bass)\, Barry (Gitarre) und Matthias (Schlagzeug) liefern einen kompakten\, druckvollen Sound\, der live besonders zündet. Mit Singles wie „Get Me“\, „Now or Never“ oder „Not Cool“ und Airplay auf T-Rock Radio sowie Freirad haben sich Bluetooth Pony schnell einen Namen gemacht. \nIhre Konzerte sind ein elektrisierendes Erlebnis voller Songs\, die das Publikum zum Tanzen und Mitsingen bringen. \n\n\n\n\n\n\nSie sehen gerade einen Platzhalterinhalt von YouTube. Um auf den eigentlichen Inhalt zuzugreifen\, klicken Sie auf die Schaltfläche unten. Bitte beachten Sie\, dass dabei Daten an Drittanbieter weitergegeben werden. \n Mehr Informationen \n Inhalt entsperren Erforderlichen Service akzeptieren und Inhalte entsperren \n \n \n\nlinktr.ee/bluetooth.pony \nKeiner Mag Annika\nDer eine mag Gurken\, der andere Blau\, der dritte aber keine Jeans. Egal. Das Trio keinermagAnnika aus Hall mag zwar Annika nicht\, dafür aber Musik\, die sie mit Gitarre\, Bass und Schlagzeug seit 2019 herstellen. 2023 ist ihr erstes Album „Tut mir echt leit“ erschienen. Von sanfter Ballade\, über Indiepop zu alternativem Rock ist darauf alles zu hören. Und psst\, großes Geheimnis: eigentlich mögen sie Annikas genauso wie alle anderen. \ninstagram.com/keinermagannika
URL:https://kulturweberei.at/events/keinermagannika/
LOCATION:Kultur Weberei Telfs\, Niedere-Munde-Straße 13\, Telfs\, Tirol\, 6410\, Austria
CATEGORIES:Konzert
ATTACH;FMTTYPE=image/png:https://kulturweberei.at/wp-content/uploads/2026/01/Alternative-Rock-Night-Telfs-Weberei-web.png
ORGANIZER;CN="Kultur Weberei Telfs":MAILTO:office@kulturweberei.at
END:VEVENT
END:VCALENDAR